BEGIN:VCALENDAR
VERSION:2.0
PRODID:-//Mallorca.art - ECPv6.15.20//NONSGML v1.0//EN
CALSCALE:GREGORIAN
METHOD:PUBLISH
X-WR-CALNAME:Mallorca.art
X-ORIGINAL-URL:https://mallorca.art
X-WR-CALDESC:Events for Mallorca.art
REFRESH-INTERVAL;VALUE=DURATION:PT1H
X-Robots-Tag:noindex
X-PUBLISHED-TTL:PT1H
BEGIN:VTIMEZONE
TZID:Europe/Madrid
BEGIN:DAYLIGHT
TZOFFSETFROM:+0100
TZOFFSETTO:+0200
TZNAME:CEST
DTSTART:20230326T010000
END:DAYLIGHT
BEGIN:STANDARD
TZOFFSETFROM:+0200
TZOFFSETTO:+0100
TZNAME:CET
DTSTART:20231029T010000
END:STANDARD
BEGIN:DAYLIGHT
TZOFFSETFROM:+0100
TZOFFSETTO:+0200
TZNAME:CEST
DTSTART:20240331T010000
END:DAYLIGHT
BEGIN:STANDARD
TZOFFSETFROM:+0200
TZOFFSETTO:+0100
TZNAME:CET
DTSTART:20241027T010000
END:STANDARD
BEGIN:DAYLIGHT
TZOFFSETFROM:+0100
TZOFFSETTO:+0200
TZNAME:CEST
DTSTART:20250330T010000
END:DAYLIGHT
BEGIN:STANDARD
TZOFFSETFROM:+0200
TZOFFSETTO:+0100
TZNAME:CET
DTSTART:20251026T010000
END:STANDARD
BEGIN:DAYLIGHT
TZOFFSETFROM:+0100
TZOFFSETTO:+0200
TZNAME:CEST
DTSTART:20260329T010000
END:DAYLIGHT
BEGIN:STANDARD
TZOFFSETFROM:+0200
TZOFFSETTO:+0100
TZNAME:CET
DTSTART:20261025T010000
END:STANDARD
END:VTIMEZONE
BEGIN:VEVENT
DTSTART;TZID=Europe/Madrid:20250605T180000
DTEND;TZID=Europe/Madrid:20250911T180000
DTSTAMP:20260425T154251
CREATED:20250602T125439Z
LAST-MODIFIED:20250608T201326Z
UID:10000036-1749146400-1757613600@mallorca.art
SUMMARY:Galeria Pelaires
DESCRIPTION:Planta Baja: La lección de geometría – Alejandro Campins\nThese paintings conjure dreamlike states and spaces of uncanny landscapes and ambiguous structures. In Campins’s work\, technique and imagery come together to evoke otherworldly atmospheres that suggest emptiness but at the same time seem filled with a psychological charge that is as powerful as it is elusive. Executed primarily in oil paint (as well as with watercolor and pencil)\, Campins’s work displays a classically grounded command of line and composition and a heightened sensibility for chromatic hues and overtones. His brushwork is subtle but assured and his use of color is muted but finely calibrated\, yielding veiled and seemingly weathered surfaces that echo the content of the paintings’ imagery. In Campins’s work\, there is a sense that past and future are overlaid\, remembrance and imagination are intertwined\, permanence and impermanence co-exist. \nPlanta Noble: Ni mundo interior ni mundo exterior – Carlos Garaicoa\nCarlos Garaicoa is a Cuban contemporary artist\, specializing in photography and installations. Garaicoa became a prominent Cuban artist in the nineteen-nineties after a massive exodus of artists who had played a decisive role in the Cuban art movement of the nineteen-eighties. \nPati: Leunora Salihu\nLeunora Salihu (Pristina\, Kosovo\, 1977) is a sculptor whose work explores the intersections between form\, space\, and materiality. She studied Sculpture at the Academy of Fine Arts in Pristina before fleeing to Germany in 1999\, where she continued her studies at the Muthesius Kunsthochschule in Kiel and later at the Kunstakademie Düsseldorf\, graduating in 2009 under the tutelage of Tony Cragg. \nHer artistic practice focuses on material research\, combining ceramics\, wood\, and metal to create sculptural compositions that challenge conventional relationships between movement and stability\, volume and void\, function and abstraction. \nPelaires Cabinet: All I Do the Whole Day Through – Pace Taylor\nPace Taylor (b. 1992) is a soft pastel artist whose work is emotionally preoccupied with intimacy and the people we choose to build it with. They received their BFA in Digital Arts from the University of Oregon in 2015 and have since exhibited internationally at venues including Nationale\, Upfor\, Oregon Contemporary\, ILY2\, and La Loma Projects (USA); Double V Gallery (Paris); Weserhalle (Berlin); and Rhodes Contemporary (London).
URL:https://mallorca.art/event/galeria-pelaires/
LOCATION:Galeria Pelaires\, Carrer de Can Verí\, 3\, Palma de Mallorca\, Illes Balears\, 07001
ATTACH;FMTTYPE=image/jpeg:https://mallorca.art/wp-content/uploads/2025/06/Pelaires_Art_Palma_Summer-1.jpg
END:VEVENT
BEGIN:VEVENT
DTSTART;VALUE=DATE:20250322
DTEND;VALUE=DATE:20250531
DTSTAMP:20260425T154251
CREATED:20250314T232935Z
LAST-MODIFIED:20250314T233029Z
UID:10000015-1742601600-1748649599@mallorca.art
SUMMARY:Albrecht Schnider\, Leunora Salihu\, Mónica Subidé\, ART PALMA BRUNCH
DESCRIPTION:Opening hours:\nMonday – Friday\n10.30 – 18.30 \nSaturday\n10.30 – 13.30
URL:https://mallorca.art/event/albrecht-schnider-leunora-salihu-monica-subide-art-palma-brunch/
LOCATION:Galeria Pelaires\, Carrer de Can Verí\, 3\, Palma de Mallorca\, Illes Balears\, 07001
CATEGORIES:ART PALMA BRUNCH
END:VEVENT
BEGIN:VEVENT
DTSTART;VALUE=DATE:20241212
DTEND;VALUE=DATE:20250305
DTSTAMP:20260425T154251
CREATED:20250220T114357Z
LAST-MODIFIED:20250220T114357Z
UID:10000005-1733961600-1741132799@mallorca.art
SUMMARY:Prudencio Irazabal - Piano Transcriptions
DESCRIPTION:Although certain mechanisms of music have sometimes served to approach painting\, it should be clarified that these Piano Transcriptions (Piano transcripts) have very little to do with it\, since painting and music are two universes that do not obey the same law\, according to Pierre Boulez. \nIn the main room three works of wide and luminous instrumentation are shown\, where the scale and color are protagonists. It could be said that the works of the adjoining room\, due to their reduction to a domestic size and by the contraction of color and light\, dialogue with those three from the concept of transcription: as if the chromatic mass had been transcribed to the voice of a single instrument and to the variations on the bright black of the lacquer of the piano. \nOpening hours\nTuesday  – Friday: 10:30 to 18:30\nSaturdays: 10:30 to 13:30 \n 
URL:https://mallorca.art/event/prudencio-irazabal-piano-transcriptions/
LOCATION:Galeria Pelaires\, Carrer de Can Verí\, 3\, Palma de Mallorca\, Illes Balears\, 07001
ATTACH;FMTTYPE=image/jpeg:https://mallorca.art/wp-content/uploads/2025/02/Pelaires_Event_1.jpg
END:VEVENT
END:VCALENDAR