BEGIN:VCALENDAR
VERSION:2.0
PRODID:-//Mallorca.art - ECPv6.15.20//NONSGML v1.0//EN
CALSCALE:GREGORIAN
METHOD:PUBLISH
X-ORIGINAL-URL:https://mallorca.art
X-WR-CALDESC:Events for Mallorca.art
REFRESH-INTERVAL;VALUE=DURATION:PT1H
X-Robots-Tag:noindex
X-PUBLISHED-TTL:PT1H
BEGIN:VTIMEZONE
TZID:Europe/Madrid
BEGIN:DAYLIGHT
TZOFFSETFROM:+0100
TZOFFSETTO:+0200
TZNAME:CEST
DTSTART:20240331T010000
END:DAYLIGHT
BEGIN:STANDARD
TZOFFSETFROM:+0200
TZOFFSETTO:+0100
TZNAME:CET
DTSTART:20241027T010000
END:STANDARD
BEGIN:DAYLIGHT
TZOFFSETFROM:+0100
TZOFFSETTO:+0200
TZNAME:CEST
DTSTART:20250330T010000
END:DAYLIGHT
BEGIN:STANDARD
TZOFFSETFROM:+0200
TZOFFSETTO:+0100
TZNAME:CET
DTSTART:20251026T010000
END:STANDARD
BEGIN:DAYLIGHT
TZOFFSETFROM:+0100
TZOFFSETTO:+0200
TZNAME:CEST
DTSTART:20260329T010000
END:DAYLIGHT
BEGIN:STANDARD
TZOFFSETFROM:+0200
TZOFFSETTO:+0100
TZNAME:CET
DTSTART:20261025T010000
END:STANDARD
END:VTIMEZONE
BEGIN:VEVENT
DTSTART;TZID=Europe/Madrid:20250605T080000
DTEND;TZID=Europe/Madrid:20250912T170000
DTSTAMP:20260425T172423
CREATED:20250602T095413Z
LAST-MODIFIED:20250602T095713Z
UID:10000027-1749110400-1757696400@mallorca.art
SUMMARY:Je suis en suite - Rafa Forteza
DESCRIPTION:Rafa Forteza\nRafa Forteza (Palma\, 1955) returns to the 6A TALLER I GALERIA D’ART with a solo exhibition under the title “JE SUIS\, ENSUITE” (I am\, then).\nForteza shares a specific project\, in which the noise\, in the best sense\, pictorial becomes silence in order to invite the viewer to connect with the way of understanding the world\, with emotions\, with painting in its purest state. \nThe brushstroke can be\, over time it has become more contained\, more leisurely\, more serene. nothing to do with a possible restlessness\, the painter has a lot to say. Forteza is counting\, painting\, experiencing the different emotions\, in layers. it is a constant addition\, the isolation of the different pictorial elements is unthinkable because they merge into a whole. Forteza is incapable of subtracting. \n \nRafa Forteza is the author of a discourse that is at times dense and eloquent\, in which the synthesis seems unthinkable\, explosive\, hot\, powerful\, without leaving any emotion\, any thought\, aside. If there is one thing that defines the painter\, it is that he hides nothing. What he thinks\, what he feels comes to the\nsurface\, in a pictorial staging that does not leave indifferent anyone who decides to enter a limitless universe. \nMaturity has positioned painting in a state of complete freedom\, in which technical mastery allows it to explore any plot\, whether in public or intimate. Forteza’s painting can be fragmented less and less each time\, painting and painter are one whole. Over the years\, painting has become a self-portrait. He speaks as he paints\, he paints as he lives. A unique experience that he generously shares. The 6th offers an exhibition in which painting\, lithography and above all paper are the protagonists. \nThe author has always had traditional printing techniques as a resource that he has made his own. He masters the technique of engraving and lithography like no one else. On this occasion\, the graphics come together in a sort of suite of a unique pictorial series. The title refers to the terminology used in the language of intaglio printing throughout the history of art. In an inevitable play on words\, Rafa Forteza puts us\, once again\, in front of the challenge of experiencing painting in freedom. The exhibition opens next Thursday\, June 5th from 6pm to 10pm\, as part of L’ART PALMA SUMMER.
URL:https://mallorca.art/event/je-suis-en-suite-rafa-forteza/
LOCATION:6a Taller & Galeria\, Carrer de la Puresa\, 8\, Palma de Mallorca\, Illes Balears\, 07001\, Spain
ATTACH;FMTTYPE=image/jpeg:https://mallorca.art/wp-content/uploads/2025/06/Estudio-Rafa-Forteza-pic-by-Natasha-Lebedeva.jpg
END:VEVENT
BEGIN:VEVENT
DTSTART;VALUE=DATE:20250322
DTEND;VALUE=DATE:20250531
DTSTAMP:20260425T172423
CREATED:20250315T093942Z
LAST-MODIFIED:20250315T094938Z
UID:10000018-1742601600-1748649599@mallorca.art
SUMMARY:STEPS - Pablo Castañeda\, María José Gallardo\, Sofía González\, Víctor González\, José Carlos Naranjo / Javier Parrilla\, ART PALMA BRUNCH
DESCRIPTION:6A TALLER I GALERIA\, as a new member of the Art Palma Contemporani Association\, celebrates the ART PALMA BRUNCH 2025 with a new exhibition opening where the good painting is undoubtedly the protagonist. For the first time the works by Pablo Castañeda (Cádiz\, 1989); Sofía González (Sevilla\, 1994); Víctor González (Jerez de la Frontera\, 1996); Maria José Gallardo (Villafranca de los Barros. Badajoz\, 1978); José Carlos Naranjo (Cádiz\, 1983) and Javier Parrilla (Sevilla\, 1975) meets in the same project. The 6A exposes different discourses\, for a moments in fight\, but in peace thanks to the good understanding by a rigourous painting\, finding their own place in the group\, that turns unique under the name “STEPS”. \nIn collaboration with Barrera Baldán Galería (Sevilla). \n\nOpening hours:\nMonday – Friday\n10.00 – 18.00
URL:https://mallorca.art/event/steps-pablo-castaneda-maria-jose-gallardo-sofia-gonzalez-victor-gonzalez-jose-carlos-naranjo-javier-parrilla-art-palma-brunch/
LOCATION:6a Taller & Galeria\, Carrer de la Puresa\, 8\, Palma de Mallorca\, Illes Balears\, 07001\, Spain
CATEGORIES:ART PALMA BRUNCH
ATTACH;FMTTYPE=image/jpeg:https://mallorca.art/wp-content/uploads/2025/03/20220224_130822-scaled-1.jpg
END:VEVENT
END:VCALENDAR